BEGIN:VCALENDAR
VERSION:2.0
CALSCALE:GREGORIAN
PRODID:-//Diputació de Barcelona//DibaCMS//EN
BEGIN:VEVENT
UID:6025
DTSTAMP:20260423T180635
DTSTART:20110910T123000
DTEND:20110910T000000
SUMMARY:Inici de les activitats del nou equipament "Les Cases dels Mestres": parlaments i actuació de jazz
LOCATION:
METHOD:PUBLISH
X-WR-CALNAME:caldesm@caldesdemontbui.cat
X-WR-TIMEZONE:Europe/Madrid
DESCRIPTION:
URI:https://www.caldesdemontbui.cat/actualitat/agenda/inici-de-les-activitats-del-nou-equipament-les-cases-dels-mestres-parlaments-i-actuacio-de-jazz.html
CLASS:PUBLIC
END:VEVENT
END:VCALENDAR
