BEGIN:VCALENDAR
VERSION:2.0
CALSCALE:GREGORIAN
PRODID:-//Diputació de Barcelona//DibaCMS//EN
BEGIN:VEVENT
UID:6023
DTSTAMP:20260423T073423
DTSTART:20110904T000000
DTEND:20110904T000000
SUMMARY:Exposició "Turquesa Honorable"
LOCATION:
METHOD:PUBLISH
X-WR-CALNAME:caldesm@caldesdemontbui.cat
X-WR-TIMEZONE:Europe/Madrid
DESCRIPTION:
URI:https://www.caldesdemontbui.cat/actualitat/agenda/exposicio-turquesa-honorable.html
CLASS:PUBLIC
END:VEVENT
END:VCALENDAR
