BEGIN:VCALENDAR
VERSION:2.0
CALSCALE:GREGORIAN
PRODID:-//Diputació de Barcelona//DibaCMS//EN
BEGIN:VEVENT
UID:6022
DTSTAMP:20260423T160435
DTSTART:20110902T000000
DTEND:20110902T000000
SUMMARY:Festa de Barri de la Font dels Enamorats (fins el 4 de setembre)
LOCATION:
METHOD:PUBLISH
X-WR-CALNAME:caldesm@caldesdemontbui.cat
X-WR-TIMEZONE:Europe/Madrid
DESCRIPTION:
URI:https://www.caldesdemontbui.cat/actualitat/agenda/festa-de-barri-de-la-font-dels-enamorats-fins-el-4-de-setembre.html
CLASS:PUBLIC
END:VEVENT
END:VCALENDAR
