BEGIN:VCALENDAR
VERSION:2.0
CALSCALE:GREGORIAN
PRODID:-//Diputació de Barcelona//DibaCMS//EN
BEGIN:VEVENT
UID:6016
DTSTAMP:20260424T001347
DTSTART:20110806T120000
DTEND:20110806T000000
SUMMARY:Lliurament trofeus del Torenig de futbol 11 Torre Marimon
LOCATION:
METHOD:PUBLISH
X-WR-CALNAME:caldesm@caldesdemontbui.cat
X-WR-TIMEZONE:Europe/Madrid
DESCRIPTION:
URI:https://www.caldesdemontbui.cat/actualitat/agenda/lliurament-trofeus-del-torenig-de-futbol-11-torre-marimon.html
CLASS:PUBLIC
END:VEVENT
END:VCALENDAR
