BEGIN:VCALENDAR
VERSION:2.0
CALSCALE:GREGORIAN
PRODID:-//Diputació de Barcelona//DibaCMS//EN
BEGIN:VEVENT
UID:6015
DTSTAMP:20260423T211543
DTSTART:20110803T080000
DTEND:20110803T000000
SUMMARY:Caminades amb els néts/es cada dimecres d'agost
LOCATION:
METHOD:PUBLISH
X-WR-CALNAME:caldesm@caldesdemontbui.cat
X-WR-TIMEZONE:Europe/Madrid
DESCRIPTION:
URI:https://www.caldesdemontbui.cat/actualitat/agenda/caminades-amb-els-netses-cada-dimecres-dagost.html
CLASS:PUBLIC
END:VEVENT
END:VCALENDAR
