BEGIN:VCALENDAR
VERSION:2.0
CALSCALE:GREGORIAN
PRODID:-//Diputació de Barcelona//DibaCMS//EN
BEGIN:VEVENT
UID:6014
DTSTAMP:20260423T192300
DTSTART:20110731T000000
DTEND:20110731T000000
SUMMARY:Colònies d'estiu amb l'Esplai Grifoll (fins el 7 d'agost)
LOCATION:
METHOD:PUBLISH
X-WR-CALNAME:caldesm@caldesdemontbui.cat
X-WR-TIMEZONE:Europe/Madrid
DESCRIPTION:
URI:https://www.caldesdemontbui.cat/actualitat/agenda/colonies-destiu-amb-lesplai-grifoll-fins-el-7-dagost.html
CLASS:PUBLIC
END:VEVENT
END:VCALENDAR
