BEGIN:VCALENDAR
VERSION:2.0
CALSCALE:GREGORIAN
PRODID:-//Diputació de Barcelona//DibaCMS//EN
BEGIN:VEVENT
UID:6013
DTSTAMP:20260423T163314
DTSTART:20110730T180000
DTEND:20110730T000000
SUMMARY:Tradicional sortida semi-nocturna pels entorns de Caldes i sopar a la Serra Llisa
LOCATION:
METHOD:PUBLISH
X-WR-CALNAME:caldesm@caldesdemontbui.cat
X-WR-TIMEZONE:Europe/Madrid
DESCRIPTION:
URI:https://www.caldesdemontbui.cat/actualitat/agenda/tradicional-sortida-semi-nocturna-pels-entorns-de-caldes-i-sopar-a-la-serra-llisa.html
CLASS:PUBLIC
END:VEVENT
END:VCALENDAR
