BEGIN:VCALENDAR
VERSION:2.0
CALSCALE:GREGORIAN
PRODID:-//Diputació de Barcelona//DibaCMS//EN
BEGIN:VEVENT
UID:6012
DTSTAMP:20260423T195855
DTSTART:20110722T220000
DTEND:20110722T000000
SUMMARY:Projeccions a la fresca: Trail Walker 2011. 100 KM per la solidaritat, presentat per Amics del Sender i Tierra Vertical
LOCATION:
METHOD:PUBLISH
X-WR-CALNAME:caldesm@caldesdemontbui.cat
X-WR-TIMEZONE:Europe/Madrid
DESCRIPTION:
URI:https://www.caldesdemontbui.cat/actualitat/agenda/projeccions-a-la-fresca-trail-walker-2011-100-km-per-la-solidaritat-presentat-per-amics-del-sender-i-tierra-vertical.html
CLASS:PUBLIC
END:VEVENT
END:VCALENDAR
