BEGIN:VCALENDAR
VERSION:2.0
CALSCALE:GREGORIAN
PRODID:-//Diputació de Barcelona//DibaCMS//EN
BEGIN:VEVENT
UID:6011
DTSTAMP:20260423T113820
DTSTART:20110722T200000
DTEND:20110722T000000
SUMMARY:Sopar iber i concert de música de l'antiga Roma al jaciment de Torre Roja 
LOCATION:
METHOD:PUBLISH
X-WR-CALNAME:caldesm@caldesdemontbui.cat
X-WR-TIMEZONE:Europe/Madrid
DESCRIPTION:
URI:https://www.caldesdemontbui.cat/actualitat/agenda/sopar-iber-i-concert-de-msica-de-lantiga-roma-al-jaciment-de-torre-roja-.html
CLASS:PUBLIC
END:VEVENT
END:VCALENDAR
