BEGIN:VCALENDAR
VERSION:2.0
CALSCALE:GREGORIAN
PRODID:-//Diputació de Barcelona//DibaCMS//EN
BEGIN:VEVENT
UID:6010
DTSTAMP:20260424T121352
DTSTART:20110722T000000
DTEND:20110722T000000
SUMMARY:Festa de Barri dels Saulons (fins el 24 de juliol)
LOCATION:
METHOD:PUBLISH
X-WR-CALNAME:caldesm@caldesdemontbui.cat
X-WR-TIMEZONE:Europe/Madrid
DESCRIPTION:
URI:https://www.caldesdemontbui.cat/actualitat/agenda/festa-de-barri-dels-saulons-fins-el-24-de-juliol.html
CLASS:PUBLIC
END:VEVENT
END:VCALENDAR
