BEGIN:VCALENDAR
VERSION:2.0
CALSCALE:GREGORIAN
PRODID:-//Diputació de Barcelona//DibaCMS//EN
BEGIN:VEVENT
UID:6008
DTSTAMP:20260423T113749
DTSTART:20110716T220000
DTEND:20110716T000000
SUMMARY:G.A.T. - Guerres per l'aigua termal
LOCATION:
METHOD:PUBLISH
X-WR-CALNAME:caldesm@caldesdemontbui.cat
X-WR-TIMEZONE:Europe/Madrid
DESCRIPTION:
URI:https://www.caldesdemontbui.cat/actualitat/agenda/gat---guerres-per-laigua-termal.html
CLASS:PUBLIC
END:VEVENT
END:VCALENDAR
