BEGIN:VCALENDAR
VERSION:2.0
CALSCALE:GREGORIAN
PRODID:-//Diputació de Barcelona//DibaCMS//EN
BEGIN:VEVENT
UID:6007
DTSTAMP:20260423T075924
DTSTART:20110715T220000
DTEND:20110715T000000
SUMMARY:Projeccions a la fresca: 4.000 km al riu Zire 30 anys després, presentat per Josep Fontcuberta
LOCATION:
METHOD:PUBLISH
X-WR-CALNAME:caldesm@caldesdemontbui.cat
X-WR-TIMEZONE:Europe/Madrid
DESCRIPTION:
URI:https://www.caldesdemontbui.cat/actualitat/agenda/projeccions-a-la-fresca-4000-km-al-riu-zire-30-anys-despres-presentat-per-josep-fontcuberta.html
CLASS:PUBLIC
END:VEVENT
END:VCALENDAR
