BEGIN:VCALENDAR
VERSION:2.0
CALSCALE:GREGORIAN
PRODID:-//Diputació de Barcelona//DibaCMS//EN
BEGIN:VEVENT
UID:6006
DTSTAMP:20260423T200154
DTSTART:20110715T220000
DTEND:20110715T000000
SUMMARY:Sardanes a la fresca amb la Cobla Lluïsos, amb coca i cava per als assistents
LOCATION:
METHOD:PUBLISH
X-WR-CALNAME:caldesm@caldesdemontbui.cat
X-WR-TIMEZONE:Europe/Madrid
DESCRIPTION:
URI:https://www.caldesdemontbui.cat/actualitat/agenda/sardanes-a-la-fresca-amb-la-cobla-lluisos-amb-coca-i-cava-per-als-assistents.html
CLASS:PUBLIC
END:VEVENT
END:VCALENDAR
