BEGIN:VCALENDAR
VERSION:2.0
CALSCALE:GREGORIAN
PRODID:-//Diputació de Barcelona//DibaCMS//EN
BEGIN:VEVENT
UID:6005
DTSTAMP:20260423T152341
DTSTART:20110715T200000
DTEND:20110715T000000
SUMMARY:Presentació del llibre 'La mort de Bèlgica. La gradual emancipació de Flandes'
LOCATION:
METHOD:PUBLISH
X-WR-CALNAME:caldesm@caldesdemontbui.cat
X-WR-TIMEZONE:Europe/Madrid
DESCRIPTION:
URI:https://www.caldesdemontbui.cat/actualitat/agenda/presentacio-del-llibre-la-mort-de-belgica-la-gradual-emancipacio-de-flandes.html
CLASS:PUBLIC
END:VEVENT
END:VCALENDAR
