BEGIN:VCALENDAR
VERSION:2.0
CALSCALE:GREGORIAN
PRODID:-//Diputació de Barcelona//DibaCMS//EN
BEGIN:VEVENT
UID:6002
DTSTAMP:20260423T075112
DTSTART:20110715T000000
DTEND:20110715T000000
SUMMARY:Festa de Barri de Can Rossell (fins el 17 de juliol)
LOCATION:
METHOD:PUBLISH
X-WR-CALNAME:caldesm@caldesdemontbui.cat
X-WR-TIMEZONE:Europe/Madrid
DESCRIPTION:
URI:https://www.caldesdemontbui.cat/actualitat/agenda/festa-de-barri-de-can-rossell-fins-el-17-de-juliol.html
CLASS:PUBLIC
END:VEVENT
END:VCALENDAR
