BEGIN:VCALENDAR
VERSION:2.0
CALSCALE:GREGORIAN
PRODID:-//Diputació de Barcelona//DibaCMS//EN
BEGIN:VEVENT
UID:6001
DTSTAMP:20260424T170343
DTSTART:20110714T210000
DTEND:20110714T000000
SUMMARY:BEM: DJ'S Trimenidijeis i concert dels The Res, amb projeccions de VHS Projeccions
LOCATION:
METHOD:PUBLISH
X-WR-CALNAME:caldesm@caldesdemontbui.cat
X-WR-TIMEZONE:Europe/Madrid
DESCRIPTION:
URI:https://www.caldesdemontbui.cat/actualitat/agenda/bem-djs-trimenidijeis-i-concert-dels-the-res-amb-projeccions-de-vhs-projeccions.html
CLASS:PUBLIC
END:VEVENT
END:VCALENDAR
