BEGIN:VCALENDAR
VERSION:2.0
CALSCALE:GREGORIAN
PRODID:-//Diputació de Barcelona//DibaCMS//EN
BEGIN:VEVENT
UID:6000
DTSTAMP:20260423T123102
DTSTART:20110713T090000
DTEND:20110713T000000
SUMMARY:Sortida a la platja i visita cultural
LOCATION:
METHOD:PUBLISH
X-WR-CALNAME:caldesm@caldesdemontbui.cat
X-WR-TIMEZONE:Europe/Madrid
DESCRIPTION:
URI:https://www.caldesdemontbui.cat/actualitat/agenda/sortida-a-la-platja-i-visita-cultural.html
CLASS:PUBLIC
END:VEVENT
END:VCALENDAR
