BEGIN:VCALENDAR
VERSION:2.0
CALSCALE:GREGORIAN
PRODID:-//Diputació de Barcelona//DibaCMS//EN
BEGIN:VEVENT
UID:5999
DTSTAMP:20260423T043334
DTSTART:20110711T190000
DTEND:20110711T000000
SUMMARY:Inscripcions a les colònies d'estiu de l'Esplai Grifoll (fins el 13 de juliol)
LOCATION:
METHOD:PUBLISH
X-WR-CALNAME:caldesm@caldesdemontbui.cat
X-WR-TIMEZONE:Europe/Madrid
DESCRIPTION:
URI:https://www.caldesdemontbui.cat/actualitat/agenda/inscripcions-a-les-colonies-destiu-de-lesplai-grifoll-fins-el-13-de-juliol.html
CLASS:PUBLIC
END:VEVENT
END:VCALENDAR
