BEGIN:VCALENDAR
VERSION:2.0
CALSCALE:GREGORIAN
PRODID:-//Diputació de Barcelona//DibaCMS//EN
BEGIN:VEVENT
UID:5998
DTSTAMP:20260423T080220
DTSTART:20110710T180000
DTEND:20110710T000000
SUMMARY:Diada castellera. 15è aniversari dels Castellers de Caldes, amb els padrins de la colla: Xics de Granollers i Tirallongues de Manresa 
LOCATION:
METHOD:PUBLISH
X-WR-CALNAME:caldesm@caldesdemontbui.cat
X-WR-TIMEZONE:Europe/Madrid
DESCRIPTION:
URI:https://www.caldesdemontbui.cat/actualitat/agenda/diada-castellera-15e-aniversari-dels-castellers-de-caldes-amb-els-padrins-de-la-colla-xics-de-granollers-i-tirallongues-de-manresa-.html
CLASS:PUBLIC
END:VEVENT
END:VCALENDAR
