BEGIN:VCALENDAR
VERSION:2.0
CALSCALE:GREGORIAN
PRODID:-//Diputació de Barcelona//DibaCMS//EN
BEGIN:VEVENT
UID:5997
DTSTAMP:20260423T220145
DTSTART:20110710T110000
DTEND:20110710T000000
SUMMARY:15è aniversari de l'Esplai Grifoll
LOCATION:
METHOD:PUBLISH
X-WR-CALNAME:caldesm@caldesdemontbui.cat
X-WR-TIMEZONE:Europe/Madrid
DESCRIPTION:
URI:https://www.caldesdemontbui.cat/actualitat/agenda/15e-aniversari-de-lesplai-grifoll.html
CLASS:PUBLIC
END:VEVENT
END:VCALENDAR
