BEGIN:VCALENDAR
VERSION:2.0
CALSCALE:GREGORIAN
PRODID:-//Diputació de Barcelona//DibaCMS//EN
BEGIN:VEVENT
UID:5996
DTSTAMP:20260423T062831
DTSTART:20110709T190000
DTEND:20110709T000000
SUMMARY:ESCALDÀRIUM. Festa del foc i de l'aigua 
LOCATION:
METHOD:PUBLISH
X-WR-CALNAME:caldesm@caldesdemontbui.cat
X-WR-TIMEZONE:Europe/Madrid
DESCRIPTION:
URI:https://www.caldesdemontbui.cat/actualitat/agenda/escaldarium-festa-del-foc-i-de-laigua-.html
CLASS:PUBLIC
END:VEVENT
END:VCALENDAR
