BEGIN:VCALENDAR
VERSION:2.0
CALSCALE:GREGORIAN
PRODID:-//Diputació de Barcelona//DibaCMS//EN
BEGIN:VEVENT
UID:5995
DTSTAMP:20260423T042333
DTSTART:20110708T220000
DTEND:20110708T000000
SUMMARY:Projeccions a la fresca: GR-20 per l'alta muntanya Corsa, presentat per Núria Martínez, Ivana Carreras i Toni Altayó
LOCATION:
METHOD:PUBLISH
X-WR-CALNAME:caldesm@caldesdemontbui.cat
X-WR-TIMEZONE:Europe/Madrid
DESCRIPTION:
URI:https://www.caldesdemontbui.cat/actualitat/agenda/projeccions-a-la-fresca-gr-20-per-lalta-muntanya-corsa-presentat-per-nria-martinez-ivana-carreras-i-toni-altayo.html
CLASS:PUBLIC
END:VEVENT
END:VCALENDAR
