BEGIN:VCALENDAR
VERSION:2.0
CALSCALE:GREGORIAN
PRODID:-//Diputació de Barcelona//DibaCMS//EN
BEGIN:VEVENT
UID:5993
DTSTAMP:20260423T133116
DTSTART:20110707T210000
DTEND:20110707T000000
SUMMARY:BEM: DJ'S Trimenidijeis i concert de Pau Riba 
LOCATION:
METHOD:PUBLISH
X-WR-CALNAME:caldesm@caldesdemontbui.cat
X-WR-TIMEZONE:Europe/Madrid
DESCRIPTION:
URI:https://www.caldesdemontbui.cat/actualitat/agenda/bem-djs-trimenidijeis-i-concert-de-pau-riba-.html
CLASS:PUBLIC
END:VEVENT
END:VCALENDAR
