BEGIN:VCALENDAR
VERSION:2.0
CALSCALE:GREGORIAN
PRODID:-//Diputació de Barcelona//DibaCMS//EN
BEGIN:VEVENT
UID:5992
DTSTAMP:20260423T192318
DTSTART:20110707T193000
DTEND:20110707T000000
SUMMARY:Projecció-xerrada: Tardoral a Nova York, a càrrec de Tomàs Mas
LOCATION:
METHOD:PUBLISH
X-WR-CALNAME:caldesm@caldesdemontbui.cat
X-WR-TIMEZONE:Europe/Madrid
DESCRIPTION:
URI:https://www.caldesdemontbui.cat/actualitat/agenda/projeccio-xerrada-tardoral-a-nova-york-a-carrec-de-tomas-mas.html
CLASS:PUBLIC
END:VEVENT
END:VCALENDAR
