BEGIN:VCALENDAR
VERSION:2.0
CALSCALE:GREGORIAN
PRODID:-//Diputació de Barcelona//DibaCMS//EN
BEGIN:VEVENT
UID:5991
DTSTAMP:20260423T095125
DTSTART:20110705T183000
DTEND:20110705T000000
SUMMARY:Taller Viatgers 2.0: tractament de fotografies i vídeos
LOCATION:
METHOD:PUBLISH
X-WR-CALNAME:caldesm@caldesdemontbui.cat
X-WR-TIMEZONE:Europe/Madrid
DESCRIPTION:
URI:https://www.caldesdemontbui.cat/actualitat/agenda/taller-viatgers-20-tractament-de-fotografies-i-videos.html
CLASS:PUBLIC
END:VEVENT
END:VCALENDAR
