BEGIN:VCALENDAR
VERSION:2.0
CALSCALE:GREGORIAN
PRODID:-//Diputació de Barcelona//DibaCMS//EN
BEGIN:VEVENT
UID:5985
DTSTAMP:20260423T113455
DTSTART:20110702T160000
DTEND:20110702T000000
SUMMARY:6a Gimcana dels ambaixadors, amb sopar al revés i concert de rumba catalana amb els Perversions
LOCATION:
METHOD:PUBLISH
X-WR-CALNAME:caldesm@caldesdemontbui.cat
X-WR-TIMEZONE:Europe/Madrid
DESCRIPTION:
URI:https://www.caldesdemontbui.cat/actualitat/agenda/6a-gimcana-dels-ambaixadors-amb-sopar-al-reves-i-concert-de-rumba-catalana-amb-els-perversions.html
CLASS:PUBLIC
END:VEVENT
END:VCALENDAR
