BEGIN:VCALENDAR
VERSION:2.0
CALSCALE:GREGORIAN
PRODID:-//Diputació de Barcelona//DibaCMS//EN
BEGIN:VEVENT
UID:5984
DTSTAMP:20260422T231703
DTSTART:20110702T090000
DTEND:20110702T000000
SUMMARY:Jornada esportiva d'activitats dirigides al carrer 
LOCATION:
METHOD:PUBLISH
X-WR-CALNAME:caldesm@caldesdemontbui.cat
X-WR-TIMEZONE:Europe/Madrid
DESCRIPTION:
URI:https://www.caldesdemontbui.cat/actualitat/agenda/jornada-esportiva-dactivitats-dirigides-al-carrer-.html
CLASS:PUBLIC
END:VEVENT
END:VCALENDAR
