BEGIN:VCALENDAR
VERSION:2.0
CALSCALE:GREGORIAN
PRODID:-//Diputació de Barcelona//DibaCMS//EN
BEGIN:VEVENT
UID:5982
DTSTAMP:20260423T023817
DTSTART:20110702T000000
DTEND:20110702T000000
SUMMARY:Exposició de vestits de Diables del Vallès (fins el 17 de juliol)
LOCATION:
METHOD:PUBLISH
X-WR-CALNAME:caldesm@caldesdemontbui.cat
X-WR-TIMEZONE:Europe/Madrid
DESCRIPTION:
URI:https://www.caldesdemontbui.cat/actualitat/agenda/exposicio-de-vestits-de-diables-del-valles-fins-el-17-de-juliol.html
CLASS:PUBLIC
END:VEVENT
END:VCALENDAR
