BEGIN:VCALENDAR
VERSION:2.0
CALSCALE:GREGORIAN
PRODID:-//Diputació de Barcelona//DibaCMS//EN
BEGIN:VEVENT
UID:5981
DTSTAMP:20260423T042654
DTSTART:20110702T000000
DTEND:20110702T000000
SUMMARY:Exposició "Capses secretes", de Joan Ponç (fins el 31 de juliol)
LOCATION:
METHOD:PUBLISH
X-WR-CALNAME:caldesm@caldesdemontbui.cat
X-WR-TIMEZONE:Europe/Madrid
DESCRIPTION:
URI:https://www.caldesdemontbui.cat/actualitat/agenda/exposicio-capses-secretes-de-joan-ponc-fins-el-31-de-juliol.html
CLASS:PUBLIC
END:VEVENT
END:VCALENDAR
