BEGIN:VCALENDAR
VERSION:2.0
CALSCALE:GREGORIAN
PRODID:-//Diputació de Barcelona//DibaCMS//EN
BEGIN:VEVENT
UID:5980
DTSTAMP:20260423T075317
DTSTART:20110702T000000
DTEND:20110702T000000
SUMMARY:Travessa pel Pirineu a la zona del Parc Nacional d'Aigüestortes
LOCATION:
METHOD:PUBLISH
X-WR-CALNAME:caldesm@caldesdemontbui.cat
X-WR-TIMEZONE:Europe/Madrid
DESCRIPTION:
URI:https://www.caldesdemontbui.cat/actualitat/agenda/travessa-pel-pirineu-a-la-zona-del-parc-nacional-daigestortes.html
CLASS:PUBLIC
END:VEVENT
END:VCALENDAR
