BEGIN:VCALENDAR
VERSION:2.0
CALSCALE:GREGORIAN
PRODID:-//Diputació de Barcelona//DibaCMS//EN
BEGIN:VEVENT
UID:5979
DTSTAMP:20260423T095011
DTSTART:20110701T223000
DTEND:20110701T000000
SUMMARY:Jornades gastronòmiques de les cireres: sopar concert al Balneari Termes Victòria
LOCATION:
METHOD:PUBLISH
X-WR-CALNAME:caldesm@caldesdemontbui.cat
X-WR-TIMEZONE:Europe/Madrid
DESCRIPTION:
URI:https://www.caldesdemontbui.cat/actualitat/agenda/jornades-gastronomiques-de-les-cireres-sopar-concert-al-balneari-termes-victoria.html
CLASS:PUBLIC
END:VEVENT
END:VCALENDAR
