BEGIN:VCALENDAR
VERSION:2.0
CALSCALE:GREGORIAN
PRODID:-//Diputació de Barcelona//DibaCMS//EN
BEGIN:VEVENT
UID:5978
DTSTAMP:20260423T142336
DTSTART:20110701T180000
DTEND:20110701T000000
SUMMARY:Presentació de l'Associació Jardí Santa Susanna
LOCATION:
METHOD:PUBLISH
X-WR-CALNAME:caldesm@caldesdemontbui.cat
X-WR-TIMEZONE:Europe/Madrid
DESCRIPTION:
URI:https://www.caldesdemontbui.cat/actualitat/agenda/presentacio-de-lassociacio-jardi-santa-susanna.html
CLASS:PUBLIC
END:VEVENT
END:VCALENDAR
