BEGIN:VCALENDAR
VERSION:2.0
CALSCALE:GREGORIAN
PRODID:-//Diputació de Barcelona//DibaCMS//EN
BEGIN:VEVENT
UID:5977
DTSTAMP:20260423T113131
DTSTART:20110701T000000
DTEND:20110701T000000
SUMMARY:Tallers d'estiu: lectura i escriptura creativa (de 8 a 16 anys). Inscripcions fins l'1 de juliol
LOCATION:
METHOD:PUBLISH
X-WR-CALNAME:caldesm@caldesdemontbui.cat
X-WR-TIMEZONE:Europe/Madrid
DESCRIPTION:
URI:https://www.caldesdemontbui.cat/actualitat/agenda/tallers-destiu-lectura-i-escriptura-creativa-de-8-a-16-anys-inscripcions-fins-l1-de-juliol.html
CLASS:PUBLIC
END:VEVENT
END:VCALENDAR
