BEGIN:VCALENDAR
VERSION:2.0
CALSCALE:GREGORIAN
PRODID:-//Diputació de Barcelona//DibaCMS//EN
BEGIN:VEVENT
UID:5975
DTSTAMP:20260423T131835
DTSTART:20110630T200000
DTEND:20110630T000000
SUMMARY:Fi del període d'inscripcions a l'Escola de Música (nous alumnes)
LOCATION:
METHOD:PUBLISH
X-WR-CALNAME:caldesm@caldesdemontbui.cat
X-WR-TIMEZONE:Europe/Madrid
DESCRIPTION:
URI:https://www.caldesdemontbui.cat/actualitat/agenda/fi-del-periode-dinscripcions-a-lescola-de-msica-nous-alumnes.html
CLASS:PUBLIC
END:VEVENT
END:VCALENDAR
