BEGIN:VCALENDAR
VERSION:2.0
CALSCALE:GREGORIAN
PRODID:-//Diputació de Barcelona//DibaCMS//EN
BEGIN:VEVENT
UID:5974
DTSTAMP:20260423T174510
DTSTART:20110629T190000
DTEND:20110629T000000
SUMMARY:Proves de pas de grau als alumnes que acaben el Nivell Elemental. Accés lliure
LOCATION:
METHOD:PUBLISH
X-WR-CALNAME:caldesm@caldesdemontbui.cat
X-WR-TIMEZONE:Europe/Madrid
DESCRIPTION:
URI:https://www.caldesdemontbui.cat/actualitat/agenda/proves-de-pas-de-grau-als-alumnes-que-acaben-el-nivell-elemental-acces-lliure.html
CLASS:PUBLIC
END:VEVENT
END:VCALENDAR
