BEGIN:VCALENDAR
VERSION:2.0
CALSCALE:GREGORIAN
PRODID:-//Diputació de Barcelona//DibaCMS//EN
BEGIN:VEVENT
UID:5973
DTSTAMP:20260423T005902
DTSTART:20110629T120000
DTEND:20110629T000000
SUMMARY:Arrossada a Can Patxau de les Caminades de l'Esplai
LOCATION:
METHOD:PUBLISH
X-WR-CALNAME:caldesm@caldesdemontbui.cat
X-WR-TIMEZONE:Europe/Madrid
DESCRIPTION:
URI:https://www.caldesdemontbui.cat/actualitat/agenda/arrossada-a-can-patxau-de-les-caminades-de-lesplai.html
CLASS:PUBLIC
END:VEVENT
END:VCALENDAR
