BEGIN:VCALENDAR
VERSION:2.0
CALSCALE:GREGORIAN
PRODID:-//Diputació de Barcelona//DibaCMS//EN
BEGIN:VEVENT
UID:5972
DTSTAMP:20260423T214111
DTSTART:20110629T120000
DTEND:20110629T000000
SUMMARY:Caminades de l'Esplai: fi de curs a Can Patxau
LOCATION:
METHOD:PUBLISH
X-WR-CALNAME:caldesm@caldesdemontbui.cat
X-WR-TIMEZONE:Europe/Madrid
DESCRIPTION:
URI:https://www.caldesdemontbui.cat/actualitat/agenda/caminades-de-lesplai-fi-de-curs-a-can-patxau.html
CLASS:PUBLIC
END:VEVENT
END:VCALENDAR
