BEGIN:VCALENDAR
VERSION:2.0
CALSCALE:GREGORIAN
PRODID:-//Diputació de Barcelona//DibaCMS//EN
BEGIN:VEVENT
UID:5971
DTSTAMP:20260423T183707
DTSTART:20110627T190000
DTEND:20110627T000000
SUMMARY:Club de lectura: trobada amb l'autor Jordi Puntí
LOCATION:
METHOD:PUBLISH
X-WR-CALNAME:caldesm@caldesdemontbui.cat
X-WR-TIMEZONE:Europe/Madrid
DESCRIPTION:
URI:https://www.caldesdemontbui.cat/actualitat/agenda/club-de-lectura-trobada-amb-lautor-jordi-punti.html
CLASS:PUBLIC
END:VEVENT
END:VCALENDAR
