BEGIN:VCALENDAR
VERSION:2.0
CALSCALE:GREGORIAN
PRODID:-//Diputació de Barcelona//DibaCMS//EN
BEGIN:VEVENT
UID:5970
DTSTAMP:20260423T113426
DTSTART:20110627T173000
DTEND:20110627T000000
SUMMARY:Taller musical d'estiu adreçat a infants que vulguin conèixer l'Escola de Música
LOCATION:
METHOD:PUBLISH
X-WR-CALNAME:caldesm@caldesdemontbui.cat
X-WR-TIMEZONE:Europe/Madrid
DESCRIPTION:
URI:https://www.caldesdemontbui.cat/actualitat/agenda/taller-musical-destiu-adrecat-a-infants-que-vulguin-coneixer-lescola-de-msica.html
CLASS:PUBLIC
END:VEVENT
END:VCALENDAR
