BEGIN:VCALENDAR
VERSION:2.0
CALSCALE:GREGORIAN
PRODID:-//Diputació de Barcelona//DibaCMS//EN
BEGIN:VEVENT
UID:5968
DTSTAMP:20260423T192241
DTSTART:20110626T100000
DTEND:20110626T000000
SUMMARY:Caldesflor Corpus 2011 
LOCATION:
METHOD:PUBLISH
X-WR-CALNAME:caldesm@caldesdemontbui.cat
X-WR-TIMEZONE:Europe/Madrid
DESCRIPTION:
URI:https://www.caldesdemontbui.cat/actualitat/agenda/caldesflor-corpus-2011-.html
CLASS:PUBLIC
END:VEVENT
END:VCALENDAR
