BEGIN:VCALENDAR
VERSION:2.0
CALSCALE:GREGORIAN
PRODID:-//Diputació de Barcelona//DibaCMS//EN
BEGIN:VEVENT
UID:5966
DTSTAMP:20260422T231501
DTSTART:20110625T230000
DTEND:20110625T000000
SUMMARY:Jornades gastronòmiques de les cireres: sopar concert al Bosc Gran
LOCATION:
METHOD:PUBLISH
X-WR-CALNAME:caldesm@caldesdemontbui.cat
X-WR-TIMEZONE:Europe/Madrid
DESCRIPTION:
URI:https://www.caldesdemontbui.cat/actualitat/agenda/jornades-gastronomiques-de-les-cireres-sopar-concert-al-bosc-gran.html
CLASS:PUBLIC
END:VEVENT
END:VCALENDAR
