BEGIN:VCALENDAR
VERSION:2.0
CALSCALE:GREGORIAN
PRODID:-//Diputació de Barcelona//DibaCMS//EN
BEGIN:VEVENT
UID:5965
DTSTAMP:20260423T195819
DTSTART:20110625T163000
DTEND:20110625T000000
SUMMARY:Torneig infantil de futbol sala (Festa de Barri del Bugarai)
LOCATION:
METHOD:PUBLISH
X-WR-CALNAME:caldesm@caldesdemontbui.cat
X-WR-TIMEZONE:Europe/Madrid
DESCRIPTION:
URI:https://www.caldesdemontbui.cat/actualitat/agenda/torneig-infantil-de-futbol-sala-festa-de-barri-del-bugarai.html
CLASS:PUBLIC
END:VEVENT
END:VCALENDAR
