BEGIN:VCALENDAR
VERSION:2.0
CALSCALE:GREGORIAN
PRODID:-//Diputació de Barcelona//DibaCMS//EN
BEGIN:VEVENT
UID:5964
DTSTAMP:20260423T113533
DTSTART:20110624T000000
DTEND:20110624T000000
SUMMARY:Travessa als Alps francesos per fer la Barra dels Ecrins
LOCATION:
METHOD:PUBLISH
X-WR-CALNAME:caldesm@caldesdemontbui.cat
X-WR-TIMEZONE:Europe/Madrid
DESCRIPTION:
URI:https://www.caldesdemontbui.cat/actualitat/agenda/travessa-als-alps-francesos-per-fer-la-barra-dels-ecrins.html
CLASS:PUBLIC
END:VEVENT
END:VCALENDAR
