BEGIN:VCALENDAR
VERSION:2.0
CALSCALE:GREGORIAN
PRODID:-//Diputació de Barcelona//DibaCMS//EN
BEGIN:VEVENT
UID:5963
DTSTAMP:20260423T073225
DTSTART:20110624T000000
DTEND:20110624T000000
SUMMARY:Travessa pel Pirineu francés, a la Vall d'Orlú
LOCATION:
METHOD:PUBLISH
X-WR-CALNAME:caldesm@caldesdemontbui.cat
X-WR-TIMEZONE:Europe/Madrid
DESCRIPTION:
URI:https://www.caldesdemontbui.cat/actualitat/agenda/travessa-pel-pirineu-frances-a-la-vall-dorl.html
CLASS:PUBLIC
END:VEVENT
END:VCALENDAR
