BEGIN:VCALENDAR
VERSION:2.0
CALSCALE:GREGORIAN
PRODID:-//Diputació de Barcelona//DibaCMS//EN
BEGIN:VEVENT
UID:5961
DTSTAMP:20260423T112415
DTSTART:20110623T210000
DTEND:20110623T000000
SUMMARY:Revetlla de Sant Joan de l'Esplai de la Gent Gran
LOCATION:
METHOD:PUBLISH
X-WR-CALNAME:caldesm@caldesdemontbui.cat
X-WR-TIMEZONE:Europe/Madrid
DESCRIPTION:
URI:https://www.caldesdemontbui.cat/actualitat/agenda/revetlla-de-sant-joan-de-lesplai-de-la-gent-gran.html
CLASS:PUBLIC
END:VEVENT
END:VCALENDAR
