BEGIN:VCALENDAR
VERSION:2.0
CALSCALE:GREGORIAN
PRODID:-//Diputació de Barcelona//DibaCMS//EN
BEGIN:VEVENT
UID:5959
DTSTAMP:20260423T024108
DTSTART:20110623T180000
DTEND:20110623T000000
SUMMARY:Hora del conte: Contes de la mar salada, amb l'Avi Pepitu
LOCATION:
METHOD:PUBLISH
X-WR-CALNAME:caldesm@caldesdemontbui.cat
X-WR-TIMEZONE:Europe/Madrid
DESCRIPTION:
URI:https://www.caldesdemontbui.cat/actualitat/agenda/hora-del-conte-contes-de-la-mar-salada-amb-lavi-pepitu.html
CLASS:PUBLIC
END:VEVENT
END:VCALENDAR
