BEGIN:VCALENDAR
VERSION:2.0
CALSCALE:GREGORIAN
PRODID:-//Diputació de Barcelona//DibaCMS//EN
BEGIN:VEVENT
UID:5958
DTSTAMP:20260423T061633
DTSTART:20110622T200000
DTEND:20110622T000000
SUMMARY:Concert de professors de l'Escola Municipal de Música Joan Valls
LOCATION:
METHOD:PUBLISH
X-WR-CALNAME:caldesm@caldesdemontbui.cat
X-WR-TIMEZONE:Europe/Madrid
DESCRIPTION:
URI:https://www.caldesdemontbui.cat/actualitat/agenda/concert-de-professors-de-lescola-municipal-de-msica-joan-valls.html
CLASS:PUBLIC
END:VEVENT
END:VCALENDAR
