BEGIN:VCALENDAR
VERSION:2.0
CALSCALE:GREGORIAN
PRODID:-//Diputació de Barcelona//DibaCMS//EN
BEGIN:VEVENT
UID:5957
DTSTAMP:20260423T110358
DTSTART:20110622T160000
DTEND:20110622T000000
SUMMARY:Teatre: Jo seré el teu gendre
LOCATION:
METHOD:PUBLISH
X-WR-CALNAME:caldesm@caldesdemontbui.cat
X-WR-TIMEZONE:Europe/Madrid
DESCRIPTION:
URI:https://www.caldesdemontbui.cat/actualitat/agenda/teatre-jo-sere-el-teu-gendre.html
CLASS:PUBLIC
END:VEVENT
END:VCALENDAR
