BEGIN:VCALENDAR
VERSION:2.0
CALSCALE:GREGORIAN
PRODID:-//Diputació de Barcelona//DibaCMS//EN
BEGIN:VEVENT
UID:5956
DTSTAMP:20260423T075043
DTSTART:20110622T080000
DTEND:20110622T000000
SUMMARY:Caminades als Saulons i Cararac
LOCATION:
METHOD:PUBLISH
X-WR-CALNAME:caldesm@caldesdemontbui.cat
X-WR-TIMEZONE:Europe/Madrid
DESCRIPTION:
URI:https://www.caldesdemontbui.cat/actualitat/agenda/caminades-als-saulons-i-cararac.html
CLASS:PUBLIC
END:VEVENT
END:VCALENDAR
