BEGIN:VCALENDAR
VERSION:2.0
CALSCALE:GREGORIAN
PRODID:-//Diputació de Barcelona//DibaCMS//EN
BEGIN:VEVENT
UID:5954
DTSTAMP:20260423T023038
DTSTART:20110621T193000
DTEND:20110621T000000
SUMMARY:Reunió informativa sobre el Club Jove
LOCATION:
METHOD:PUBLISH
X-WR-CALNAME:caldesm@caldesdemontbui.cat
X-WR-TIMEZONE:Europe/Madrid
DESCRIPTION:
URI:https://www.caldesdemontbui.cat/actualitat/agenda/reunio-informativa-sobre-el-club-jove.html
CLASS:PUBLIC
END:VEVENT
END:VCALENDAR
